BEGIN:VCALENDAR
CALSCALE:GREGORIAN
VERSION:2.0
X-WR-CALNAME:CK - TOMORROW'S OFFICE
METHOD:PUBLISH
PRODID:-//Apple Inc.//Mac OS X 10.14.6//EN
BEGIN:VTIMEZONE
TZID:Europe/Luxembourg
BEGIN:DAYLIGHT
TZOFFSETFROM:+0100
RRULE:FREQ=YEARLY;BYMONTH=3;BYDAY=-1SU
DTSTART:19810329T020000
TZNAME:UTC+2
TZOFFSETTO:+0200
END:DAYLIGHT
BEGIN:STANDARD
TZOFFSETFROM:+0200
RRULE:FREQ=YEARLY;BYMONTH=10;BYDAY=-1SU
DTSTART:19961027T030000
TZNAME:UTC+1
TZOFFSETTO:+0100
END:STANDARD
END:VTIMEZONE
BEGIN:VEVENT
CREATED:20180806T075923Z
UID:87F0E5A4-C3BE-439A-A0AE-F7A97C9D0672
DTEND;TZID=Europe/Luxembourg:20201022T203000
TRANSP:OPAQUE
X-APPLE-TRAVEL-ADVISORY-BEHAVIOR:AUTOMATIC
SUMMARY:CK - TOMORROW'S OFFICE
LAST-MODIFIED:20200918T145011Z
DTSTAMP:20180806T145308Z
DTSTART;TZID=Europe/Luxembourg:20201021T090000
LOCATION:CK BUSINESS CENTER\n2 rue Léon Laval\n L-3372 LEUDELANGE
SEQUENCE:0
END:VEVENT
END:VCALENDAR
